BEGIN:VCALENDAR
VERSION:2.0
PRODID:-//CENTER FOR SYNTHETIC BIOLOGY - ECPv6.15.20//NONSGML v1.0//EN
CALSCALE:GREGORIAN
METHOD:PUBLISH
X-WR-CALNAME:CENTER FOR SYNTHETIC BIOLOGY
X-ORIGINAL-URL:https://www.syntheticbiology.uw.edu
X-WR-CALDESC:Events for CENTER FOR SYNTHETIC BIOLOGY
REFRESH-INTERVAL;VALUE=DURATION:PT1H
X-Robots-Tag:noindex
X-PUBLISHED-TTL:PT1H
BEGIN:VTIMEZONE
TZID:America/Los_Angeles
BEGIN:DAYLIGHT
TZOFFSETFROM:-0800
TZOFFSETTO:-0700
TZNAME:PDT
DTSTART:20230312T100000
END:DAYLIGHT
BEGIN:STANDARD
TZOFFSETFROM:-0700
TZOFFSETTO:-0800
TZNAME:PST
DTSTART:20231105T090000
END:STANDARD
BEGIN:DAYLIGHT
TZOFFSETFROM:-0800
TZOFFSETTO:-0700
TZNAME:PDT
DTSTART:20240310T100000
END:DAYLIGHT
BEGIN:STANDARD
TZOFFSETFROM:-0700
TZOFFSETTO:-0800
TZNAME:PST
DTSTART:20241103T090000
END:STANDARD
BEGIN:DAYLIGHT
TZOFFSETFROM:-0800
TZOFFSETTO:-0700
TZNAME:PDT
DTSTART:20250309T100000
END:DAYLIGHT
BEGIN:STANDARD
TZOFFSETFROM:-0700
TZOFFSETTO:-0800
TZNAME:PST
DTSTART:20251102T090000
END:STANDARD
END:VTIMEZONE
BEGIN:VEVENT
DTSTART;TZID=America/Los_Angeles:20241113T153000
DTEND;TZID=America/Los_Angeles:20241113T163000
DTSTAMP:20260422T102249
CREATED:20241023T172725Z
LAST-MODIFIED:20250210T181918Z
UID:426-1731511800-1731515400@www.syntheticbiology.uw.edu
SUMMARY:Genome Sciences Seminars_Dr. Kyle Loh | Stanford University
DESCRIPTION:UW Genome Sciences brings leading researchers from a broad spectrum of scientific areas to campus to discuss the latest advances in genetics\, genomics\, proteomics\, computational research and related emerging tools and technologies.
URL:https://www.syntheticbiology.uw.edu/event/genome-sciences-seminars_dr-kyle-loh-stanford-university/
LOCATION:Foege Auditorium (Foege S-060
END:VEVENT
END:VCALENDAR