BEGIN:VCALENDAR
VERSION:2.0
PRODID:-//CENTER FOR SYNTHETIC BIOLOGY - ECPv6.15.20//NONSGML v1.0//EN
CALSCALE:GREGORIAN
METHOD:PUBLISH
X-WR-CALNAME:CENTER FOR SYNTHETIC BIOLOGY
X-ORIGINAL-URL:https://www.syntheticbiology.uw.edu
X-WR-CALDESC:Events for CENTER FOR SYNTHETIC BIOLOGY
REFRESH-INTERVAL;VALUE=DURATION:PT1H
X-Robots-Tag:noindex
X-PUBLISHED-TTL:PT1H
BEGIN:VTIMEZONE
TZID:America/Los_Angeles
BEGIN:DAYLIGHT
TZOFFSETFROM:-0800
TZOFFSETTO:-0700
TZNAME:PDT
DTSTART:20230312T100000
END:DAYLIGHT
BEGIN:STANDARD
TZOFFSETFROM:-0700
TZOFFSETTO:-0800
TZNAME:PST
DTSTART:20231105T090000
END:STANDARD
BEGIN:DAYLIGHT
TZOFFSETFROM:-0800
TZOFFSETTO:-0700
TZNAME:PDT
DTSTART:20240310T100000
END:DAYLIGHT
BEGIN:STANDARD
TZOFFSETFROM:-0700
TZOFFSETTO:-0800
TZNAME:PST
DTSTART:20241103T090000
END:STANDARD
BEGIN:DAYLIGHT
TZOFFSETFROM:-0800
TZOFFSETTO:-0700
TZNAME:PDT
DTSTART:20250309T100000
END:DAYLIGHT
BEGIN:STANDARD
TZOFFSETFROM:-0700
TZOFFSETTO:-0800
TZNAME:PST
DTSTART:20251102T090000
END:STANDARD
END:VTIMEZONE
BEGIN:VEVENT
DTSTART;TZID=America/Los_Angeles:20241119T130000
DTEND;TZID=America/Los_Angeles:20241119T140000
DTSTAMP:20260421T070546
CREATED:20241017T180350Z
LAST-MODIFIED:20250210T181859Z
UID:414-1732021200-1732024800@www.syntheticbiology.uw.edu
SUMMARY:MolES Seminar: Brian Pfleger (Chemical & Biological Engineering - University of Madison-Wisconsin)
DESCRIPTION:The Molecular Engineering & Sciences Institute hosts a weekly seminar that brings together students\, faculty and distinguished leaders from various disciplines across campus to explore current trends in molecular engineering and nanotechnology. This week’s MolES Seminar presenter is Brian Pfleger (Chemical & Biological Engineering – University of Madison-Wisconsin).
URL:https://www.syntheticbiology.uw.edu/event/moles-seminar-brian-pfleger-chemical-biological-engineering-university-of-madison-wisconsin/
LOCATION:NanoES 181
END:VEVENT
END:VCALENDAR