BEGIN:VCALENDAR
VERSION:2.0
PRODID:-//CENTER FOR SYNTHETIC BIOLOGY - ECPv6.15.20//NONSGML v1.0//EN
CALSCALE:GREGORIAN
METHOD:PUBLISH
X-WR-CALNAME:CENTER FOR SYNTHETIC BIOLOGY
X-ORIGINAL-URL:https://www.syntheticbiology.uw.edu
X-WR-CALDESC:Events for CENTER FOR SYNTHETIC BIOLOGY
REFRESH-INTERVAL;VALUE=DURATION:PT1H
X-Robots-Tag:noindex
X-PUBLISHED-TTL:PT1H
BEGIN:VTIMEZONE
TZID:America/Los_Angeles
BEGIN:DAYLIGHT
TZOFFSETFROM:-0800
TZOFFSETTO:-0700
TZNAME:PDT
DTSTART:20240310T100000
END:DAYLIGHT
BEGIN:STANDARD
TZOFFSETFROM:-0700
TZOFFSETTO:-0800
TZNAME:PST
DTSTART:20241103T090000
END:STANDARD
BEGIN:DAYLIGHT
TZOFFSETFROM:-0800
TZOFFSETTO:-0700
TZNAME:PDT
DTSTART:20250309T100000
END:DAYLIGHT
BEGIN:STANDARD
TZOFFSETFROM:-0700
TZOFFSETTO:-0800
TZNAME:PST
DTSTART:20251102T090000
END:STANDARD
BEGIN:DAYLIGHT
TZOFFSETFROM:-0800
TZOFFSETTO:-0700
TZNAME:PDT
DTSTART:20260308T100000
END:DAYLIGHT
BEGIN:STANDARD
TZOFFSETFROM:-0700
TZOFFSETTO:-0800
TZNAME:PST
DTSTART:20261101T090000
END:STANDARD
END:VTIMEZONE
BEGIN:VEVENT
DTSTART;TZID=America/Los_Angeles:20250303T133000
DTEND;TZID=America/Los_Angeles:20250303T143000
DTSTAMP:20260420T070022
CREATED:20250203T055424Z
LAST-MODIFIED:20250210T181739Z
UID:457-1741008600-1741012200@www.syntheticbiology.uw.edu
SUMMARY:Syn Bio supergroup Meeting
DESCRIPTION:Please join us for Syn Bio supergroup this coming Monday\, March 3rd at 1:30pm in MolES 215 and on zoom (https://washington.zoom.us/j/94024270390).  \n  \nSpeaker: Adam Steinbrenner (Dept of Biology) \nSpeaker: Katie Denecke (Kueh) \n2025 schedule: SynBio Supergroup Schedule \nEmail list signup: http://mailman.u.washington.edu/mailman/listinfo/synbiolist
URL:https://www.syntheticbiology.uw.edu/event/syn-bio-supergroup-meeting-2/
LOCATION:MolES 215
END:VEVENT
END:VCALENDAR