BEGIN:VCALENDAR
VERSION:2.0
PRODID:-//CENTER FOR SYNTHETIC BIOLOGY - ECPv6.15.20//NONSGML v1.0//EN
CALSCALE:GREGORIAN
METHOD:PUBLISH
X-WR-CALNAME:CENTER FOR SYNTHETIC BIOLOGY
X-ORIGINAL-URL:https://www.syntheticbiology.uw.edu
X-WR-CALDESC:Events for CENTER FOR SYNTHETIC BIOLOGY
REFRESH-INTERVAL;VALUE=DURATION:PT1H
X-Robots-Tag:noindex
X-PUBLISHED-TTL:PT1H
BEGIN:VTIMEZONE
TZID:UTC
BEGIN:STANDARD
TZOFFSETFROM:+0000
TZOFFSETTO:+0000
TZNAME:UTC
DTSTART:20240101T000000
END:STANDARD
END:VTIMEZONE
BEGIN:VEVENT
DTSTART;TZID=UTC:20250604T120000
DTEND;TZID=UTC:20250604T140000
DTSTAMP:20260424T091058
CREATED:20250820T152654Z
LAST-MODIFIED:20250820T152930Z
UID:526-1749038400-1749045600@www.syntheticbiology.uw.edu
SUMMARY:SCI ART at Fred Hutch: SCI-ART Brown Bag Lunch
DESCRIPTION:SxAffold is a week-long professional development workshop bringing together artists and scientists with the aim of fostering art­ science projects and collaborations. \n• Meet with SxAffold artists to discuss sci-art collaborations and ongoing projects\n• BYO lunch
URL:https://www.syntheticbiology.uw.edu/event/sci-art-at-fred-hutch-sci-art-brown-bag-lunch/
END:VEVENT
END:VCALENDAR