BEGIN:VCALENDAR
VERSION:2.0
PRODID:-//CENTER FOR SYNTHETIC BIOLOGY - ECPv6.15.20//NONSGML v1.0//EN
CALSCALE:GREGORIAN
METHOD:PUBLISH
X-WR-CALNAME:CENTER FOR SYNTHETIC BIOLOGY
X-ORIGINAL-URL:https://www.syntheticbiology.uw.edu
X-WR-CALDESC:Events for CENTER FOR SYNTHETIC BIOLOGY
REFRESH-INTERVAL;VALUE=DURATION:PT1H
X-Robots-Tag:noindex
X-PUBLISHED-TTL:PT1H
BEGIN:VTIMEZONE
TZID:UTC
BEGIN:STANDARD
TZOFFSETFROM:+0000
TZOFFSETTO:+0000
TZNAME:UTC
DTSTART:20240101T000000
END:STANDARD
END:VTIMEZONE
BEGIN:VTIMEZONE
TZID:America/Los_Angeles
BEGIN:DAYLIGHT
TZOFFSETFROM:-0800
TZOFFSETTO:-0700
TZNAME:PDT
DTSTART:20230312T100000
END:DAYLIGHT
BEGIN:STANDARD
TZOFFSETFROM:-0700
TZOFFSETTO:-0800
TZNAME:PST
DTSTART:20231105T090000
END:STANDARD
BEGIN:DAYLIGHT
TZOFFSETFROM:-0800
TZOFFSETTO:-0700
TZNAME:PDT
DTSTART:20240310T100000
END:DAYLIGHT
BEGIN:STANDARD
TZOFFSETFROM:-0700
TZOFFSETTO:-0800
TZNAME:PST
DTSTART:20241103T090000
END:STANDARD
BEGIN:DAYLIGHT
TZOFFSETFROM:-0800
TZOFFSETTO:-0700
TZNAME:PDT
DTSTART:20250309T100000
END:DAYLIGHT
BEGIN:STANDARD
TZOFFSETFROM:-0700
TZOFFSETTO:-0800
TZNAME:PST
DTSTART:20251102T090000
END:STANDARD
BEGIN:DAYLIGHT
TZOFFSETFROM:-0800
TZOFFSETTO:-0700
TZNAME:PDT
DTSTART:20260308T100000
END:DAYLIGHT
BEGIN:STANDARD
TZOFFSETFROM:-0700
TZOFFSETTO:-0800
TZNAME:PST
DTSTART:20261101T090000
END:STANDARD
END:VTIMEZONE
BEGIN:VEVENT
DTSTART;TZID=UTC:20251015T153000
DTEND;TZID=UTC:20251015T163000
DTSTAMP:20260424T110001
CREATED:20250807T180441Z
LAST-MODIFIED:20250807T180441Z
UID:483-1760542200-1760545800@www.syntheticbiology.uw.edu
SUMMARY:Genome Sciences Seminar Series_Dr. Celia Payen | IFF Nutrition & Biosciences |
DESCRIPTION:UW Genome Sciences brings leading researchers from a broad spectrum of scientific areas to campus to discuss the latest advances in genetics\, genomics\, proteomics\, computational research and related emerging tools and technologies.
URL:https://www.syntheticbiology.uw.edu/event/genome-sciences-seminar-series_dr-celia-payen-iff-nutrition-biosciences/
LOCATION:Foege Auditorium (Foege S-060
END:VEVENT
BEGIN:VEVENT
DTSTART;VALUE=DATE:20250919
DTEND;VALUE=DATE:20250920
DTSTAMP:20260424T110001
CREATED:20250807T181009Z
LAST-MODIFIED:20250807T181140Z
UID:487-1758240000-1758326399@www.syntheticbiology.uw.edu
SUMMARY:2025 Genome Sciences Symposium: The Interplay of Technology and Biology
DESCRIPTION:2025 Genome Sciences Symposium : The Interplay of Technology and Biology in honor of Stan Fields \nAll talks held in Foege Auditorium | remote viewing option | registration not required | make a gift \nThe detailed schedule will be available in early September. \nSpeakers\nDr. David Baker | University of Washington \nDr. Jef Boeke | New York University\n“Large Scale Genome Engineering in Yeast and Big Eukaryotes”\ntalk will be recorded \nDr. Barak Cohen | Washington University\n“How to build an enhancer?”\ntalk will be recorded \nDr. Virginia Cornish | Columbia University \nDr. Prashant Mali | UC San Diego\n“A Nature-Guided Approach for Engineering In Vivo Delivery”\ntalk will not be recorded \nDr. Srivatsan Raman | University of Wisconsin \nDr. Jay Shendure | University of Washington \nDr. Christina Smolke | Stanford University
URL:https://www.syntheticbiology.uw.edu/event/2025-genome-sciences-symposium-_the-interplay-of-technology-and-biology/
LOCATION:Foege Auditorium (Foege S-060
END:VEVENT
BEGIN:VEVENT
DTSTART;TZID=UTC:20250806T130000
DTEND;TZID=UTC:20250806T140000
DTSTAMP:20260424T110001
CREATED:20250820T152209Z
LAST-MODIFIED:20250820T152209Z
UID:520-1754485200-1754488800@www.syntheticbiology.uw.edu
SUMMARY:Summer Synthetic Biology Talk_Taku Miztuntani: Exploring Enzymes Catalyzing the Formation of Non-Canonical Amino Acids
DESCRIPTION:This Wednesday\, Prof. Taku Miztutani\, an assistant professor in Prof. Abe’s laboratory at the University of Tokyo will present. He will be giving a talk on his work for non-canonical amino acid biochemistry\, biocatalysis\, & biosynthesis. \nTalk Title: Exploring Enzymes Catalyzing the Formation of Non-Canonical Amino Acids\nTalk Abstract: Non-canonical aminoacids (NCAAs) serve as valuable building blocks for the structurally and functionally diverse bioactive compounds. Enzymatic synthesis offers a highly efficient and selective approach to accessing these molecules\, owing to the remarkable regio- and stereoselectivity of enzymatic transformations\, as well as their compatibility with mild reaction conditions. In this presentation\, I will discuss our recent efforts to discover and characterize bacterial enzymes capable of catalyzing the modification of standard amino acids to form functionalized NCAAs\, mainly about the biosynthesis of α-hydroxy-β-amino acids(norstatines). \n 
URL:https://www.syntheticbiology.uw.edu/event/summer-synthetic-biology-talk_taku-miztuntani-exploring-enzymes-catalyzing-the-formation-of-non-canonical-amino-acids/
LOCATION:MolES 391
END:VEVENT
BEGIN:VEVENT
DTSTART;TZID=UTC:20250723T150000
DTEND;TZID=UTC:20250723T160000
DTSTAMP:20260424T110001
CREATED:20250820T151938Z
LAST-MODIFIED:20250820T151938Z
UID:518-1753282800-1753286400@www.syntheticbiology.uw.edu
SUMMARY:Seminar_Tae Seok Moon\, Professor\, JCVI
DESCRIPTION:Tae Seok Moon (Prof @ J. Craig Venter Institute – https://www.jcvi.org/) is at UW for a Molecular Programming roadmapping workshop and has offered to give an informal seminar to our syn bio community. \n 
URL:https://www.syntheticbiology.uw.edu/event/seminar_tae-seok-moon-professor-jcvi/
LOCATION:MolES 315
END:VEVENT
BEGIN:VEVENT
DTSTART;TZID=UTC:20250711T120000
DTEND;TZID=UTC:20250711T190000
DTSTAMP:20260424T110001
CREATED:20250820T151550Z
LAST-MODIFIED:20250820T151550Z
UID:513-1752235200-1752260400@www.syntheticbiology.uw.edu
SUMMARY:Engineered Living Materials for the Built Environment Exhibition
DESCRIPTION:Engineered Living Materials for the Built Environment Exhibition. Engineered Living Materials is an exciting area of study combining engineered microbes in polymeric materials using additive manufacturing (3D printing). Based on cutting-edge\, NSF-funded Engineered Living Material (ELM) research that integrates synthetic biology with polymer science\, graduate students in Architecture envision how this new material category could be integrated into buildings and cities of the future. The interdisciplinary work combines material science\, computational design\, 3D-printed material samples\, and design projects that leverage the potential of these innovative materials. \nThis work is part of an NSF EFRI ELiS research grant at the University of Washington\, led by Professor Nelson\, Chemistry\, in collaboration with Professor Olánrewájú\, Mechanical Engineering and Bioengineering\, Professor Proksch\, Architecture\, and researchers at the University of Texas at Austin\nand the University of California Davis (https://elis.be.uw.edu/).
URL:https://www.syntheticbiology.uw.edu/event/engineered-living-materials-for-the-built-environment-exhibition/
LOCATION:NanoES Lobby
END:VEVENT
BEGIN:VEVENT
DTSTART;TZID=UTC:20250606T110000
DTEND;TZID=UTC:20250606T130000
DTSTAMP:20260424T110001
CREATED:20250820T152913Z
LAST-MODIFIED:20250820T152913Z
UID:528-1749207600-1749214800@www.syntheticbiology.uw.edu
SUMMARY:SCI-ART at Fred Hutch: SCI-ART Presentations
DESCRIPTION:SxAffold is a week-long professional development workshop bringing together artists and scientists with the aim of fostering art­ science projects and collaborations. \n\nJoint presentations between SxAffold artists and Fred Hutch host labs on collaborative projects
URL:https://www.syntheticbiology.uw.edu/event/sci-art-at-fred-hutch-sci-art-presentations/
LOCATION:Steam Plant O’Mack North (1st floor)
END:VEVENT
BEGIN:VEVENT
DTSTART;TZID=UTC:20250604T120000
DTEND;TZID=UTC:20250604T140000
DTSTAMP:20260424T110001
CREATED:20250820T152654Z
LAST-MODIFIED:20250820T152930Z
UID:526-1749038400-1749045600@www.syntheticbiology.uw.edu
SUMMARY:SCI ART at Fred Hutch: SCI-ART Brown Bag Lunch
DESCRIPTION:SxAffold is a week-long professional development workshop bringing together artists and scientists with the aim of fostering art­ science projects and collaborations. \n• Meet with SxAffold artists to discuss sci-art collaborations and ongoing projects\n• BYO lunch
URL:https://www.syntheticbiology.uw.edu/event/sci-art-at-fred-hutch-sci-art-brown-bag-lunch/
END:VEVENT
BEGIN:VEVENT
DTSTART;TZID=UTC:20250602T133000
DTEND;TZID=UTC:20250602T143000
DTSTAMP:20260424T110001
CREATED:20250820T151727Z
LAST-MODIFIED:20250820T151727Z
UID:516-1748871000-1748874600@www.syntheticbiology.uw.edu
SUMMARY:Synbio Supergroup_Tracy Mallette
DESCRIPTION:Please join us for Syn Bio supergroup this coming Monday\, June 2 at 1:30pm in MolES 315 and on zoom (https://washington.zoom.us/j/94024270390) for the last meeting of the academic year. We will hear from Tracy Mallette\, a postdoc in the Thachuk lab (Allen School of Comp Sci and Eng). \nFull 2025 schedule: SynBio Supergroup Schedule \nEmail list signup: http://mailman.u.washington.edu/mailman/listinfo/synbiolist/
URL:https://www.syntheticbiology.uw.edu/event/synbio-supergroup_tracy-mallette/
LOCATION:MolES 315
END:VEVENT
BEGIN:VEVENT
DTSTART;TZID=America/Los_Angeles:20250602T133000
DTEND;TZID=America/Los_Angeles:20250602T143000
DTSTAMP:20260424T110001
CREATED:20250303T173908Z
LAST-MODIFIED:20250324T181612Z
UID:475-1748871000-1748874600@www.syntheticbiology.uw.edu
SUMMARY:Syn Bio supergroup Meeting
DESCRIPTION:Please join us for Syn Bio supergroup this coming Monday\, June 2nd at 1:30pm in MolES 215 and on zoom (https://washington.zoom.us/j/94024270390).  \n  \nSpeaker: Tracy Mallette (Thachuk) \n2025 schedule: SynBio Supergroup Schedule \nEmail list signup: http://mailman.u.washington.edu/mailman/listinfo/synbiolist
URL:https://www.syntheticbiology.uw.edu/event/syn-bio-supergroup-meeting-5/
LOCATION:MolES 315
END:VEVENT
BEGIN:VEVENT
DTSTART;TZID=UTC:20250602T120000
DTEND;TZID=UTC:20250602T130000
DTSTAMP:20260424T110001
CREATED:20250820T152537Z
LAST-MODIFIED:20250820T152945Z
UID:523-1748865600-1748869200@www.syntheticbiology.uw.edu
SUMMARY:SCI ART at Fred Hutch _ Science Community Mixer
DESCRIPTION:SxAffold is a week-long professional development workshop bringing together artists and scientists with the aim of fostering art ­science projects and collaborations. \n• Meet with science communicators and artists from the Greater Seattle Area\, art demonstrations and drinks will be provided\n• BYO lunch
URL:https://www.syntheticbiology.uw.edu/event/sci-art-at-fred-hutch-_-science-community-mixer/
LOCATION:Steam Plant 4th Floor Patio
END:VEVENT
BEGIN:VEVENT
DTSTART;TZID=America/Los_Angeles:20250505T133000
DTEND;TZID=America/Los_Angeles:20250505T143000
DTSTAMP:20260424T110001
CREATED:20250303T173803Z
LAST-MODIFIED:20250324T181601Z
UID:473-1746451800-1746455400@www.syntheticbiology.uw.edu
SUMMARY:Syn Bio supergroup Meeting
DESCRIPTION:Please join us for Syn Bio supergroup this coming Monday\, May 5th at 1:30pm in MolES 215 and on zoom (https://washington.zoom.us/j/94024270390).  \n  \nSpeaker: iGEM (tentative) \n2025 schedule: SynBio Supergroup Schedule \nEmail list signup: http://mailman.u.washington.edu/mailman/listinfo/synbiolist
URL:https://www.syntheticbiology.uw.edu/event/syn-bio-supergroup-meeting-4/
LOCATION:MolES 315
END:VEVENT
BEGIN:VEVENT
DTSTART;TZID=America/Los_Angeles:20250410T100000
DTEND;TZID=America/Los_Angeles:20250410T120000
DTSTAMP:20260424T110001
CREATED:20250210T181611Z
LAST-MODIFIED:20250210T181611Z
UID:459-1744279200-1744286400@www.syntheticbiology.uw.edu
SUMMARY:Agile BioFoundry Student Workshop
DESCRIPTION:Explore the world of synthetic biology/biomanufacturing at a workshop led by early-career Agile BioFoundry researchers. Join us to learn more about the Agile BioFoundry\, the synthetic biology/biomanufacturing industry\, and opportunities to further your career. \n  \nWHAT TO EXPECT FROM THE WORKSHOP: \nLearn about synthetic biology/biomanufacturing and the Agile BioFoundry \nHear what it’s like to work in industry\, academic and national laboratory roles \nInteract with a panel of early-career Agile BioFoundry researchers \nGet tips on finding internships\, networking\, resume writing\, and interviewing
URL:https://www.syntheticbiology.uw.edu/event/agile-biofoundry-student-workshop/
END:VEVENT
BEGIN:VEVENT
DTSTART;TZID=America/Los_Angeles:20250407T133000
DTEND;TZID=America/Los_Angeles:20250407T143000
DTSTAMP:20260424T110001
CREATED:20250303T173014Z
LAST-MODIFIED:20250324T181545Z
UID:471-1744032600-1744036200@www.syntheticbiology.uw.edu
SUMMARY:Syn Bio supergroup Meeting
DESCRIPTION:Please join us for Syn Bio supergroup this coming Monday\, April 7th at 1:30pm in MolES 215 and on zoom (https://washington.zoom.us/j/94024270390). \nSpeaker: Sebastian Castillo-Hair  \n2025 schedule: SynBio Supergroup Schedule \nEmail list signup: http://mailman.u.washington.edu/mailman/listinfo/synbiolist
URL:https://www.syntheticbiology.uw.edu/event/syn-bio-supergroup-meeting-3/
LOCATION:MolES 315
END:VEVENT
BEGIN:VEVENT
DTSTART;TZID=America/Los_Angeles:20250305T153000
DTEND;TZID=America/Los_Angeles:20250305T163000
DTSTAMP:20260424T110001
CREATED:20250211T182127Z
LAST-MODIFIED:20250211T182204Z
UID:467-1741188600-1741192200@www.syntheticbiology.uw.edu
SUMMARY:Genome Sciences Seminar Series_Dr. Jennifer Brophy | Stanford University |
DESCRIPTION:UW Genome Sciences brings leading researchers from a broad spectrum of scientific areas to campus to discuss the latest advances in genetics\, genomics\, proteomics\, computational research and related emerging tools and technologies.
URL:https://www.syntheticbiology.uw.edu/event/genome-sciences-seminar-series_dr-jennifer-brophy-stanford-university/
LOCATION:Foege Auditorium (Foege S-060
END:VEVENT
BEGIN:VEVENT
DTSTART;TZID=America/Los_Angeles:20250303T133000
DTEND;TZID=America/Los_Angeles:20250303T143000
DTSTAMP:20260424T110001
CREATED:20250203T055424Z
LAST-MODIFIED:20250210T181739Z
UID:457-1741008600-1741012200@www.syntheticbiology.uw.edu
SUMMARY:Syn Bio supergroup Meeting
DESCRIPTION:Please join us for Syn Bio supergroup this coming Monday\, March 3rd at 1:30pm in MolES 215 and on zoom (https://washington.zoom.us/j/94024270390).  \n  \nSpeaker: Adam Steinbrenner (Dept of Biology) \nSpeaker: Katie Denecke (Kueh) \n2025 schedule: SynBio Supergroup Schedule \nEmail list signup: http://mailman.u.washington.edu/mailman/listinfo/synbiolist
URL:https://www.syntheticbiology.uw.edu/event/syn-bio-supergroup-meeting-2/
LOCATION:MolES 215
END:VEVENT
BEGIN:VEVENT
DTSTART;TZID=America/Los_Angeles:20250226T153000
DTEND;TZID=America/Los_Angeles:20250226T163000
DTSTAMP:20260424T110001
CREATED:20250109T222410Z
LAST-MODIFIED:20250210T181725Z
UID:449-1740583800-1740587400@www.syntheticbiology.uw.edu
SUMMARY:Genome Sciences Seminar Series_Dr. Anders Sejr Hansen | MIT
DESCRIPTION:UW Genome Sciences brings leading researchers from a broad spectrum of scientific areas to campus to discuss the latest advances in genetics\, genomics\, proteomics\, computational research and related emerging tools and technologies. \n  \n2/26/2025 3:30-4:30pm\nGS Seminar:Dr. Anders Sejr Hansen | MIT\nFoege Auditorium and zoom https://washington.zoom.us/my/gsseminar \n 
URL:https://www.syntheticbiology.uw.edu/event/genome-sciences-seminar-series_dr-anders-sejr-hansen-mit/
LOCATION:Foege Auditorium (Foege S-060
END:VEVENT
BEGIN:VEVENT
DTSTART;TZID=America/Los_Angeles:20250203T133000
DTEND;TZID=America/Los_Angeles:20250203T143000
DTSTAMP:20260424T110001
CREATED:20250203T055015Z
LAST-MODIFIED:20250210T181813Z
UID:455-1738589400-1738593000@www.syntheticbiology.uw.edu
SUMMARY:Syn Bio supergroup Meeting
DESCRIPTION:Please join us for Syn Bio supergroup this coming Monday\, February 3 at 1:30pm in MolES 215 and on zoom (https://washington.zoom.us/j/94024270390). We will have one ~40 min talk at this meeting. \n  \nSpeaker: Nick Riley\, Assistant Professor\, Department of Chemistry (https://www.riley-research.com/) \nTitle: “How can glycoengineering help us with glycoproteomics?” \n2025 schedule: SynBio Supergroup Schedule \nEmail list signup: http://mailman.u.washington.edu/mailman/listinfo/synbiolist
URL:https://www.syntheticbiology.uw.edu/event/syn-bio-supergroup-meeting/
LOCATION:MolES 215
END:VEVENT
BEGIN:VEVENT
DTSTART;TZID=UTC:20250114T130000
DTEND;TZID=UTC:20250114T140000
DTSTAMP:20260424T110001
CREATED:20250820T150156Z
LAST-MODIFIED:20250820T150156Z
UID:510-1736859600-1736863200@www.syntheticbiology.uw.edu
SUMMARY:MolES Seminar - Winter 2025_Dr. Ben Woolston_Engineering bacteria to solve problems in renewable chemical production and human health
DESCRIPTION:Engineering bacteria to solve problems in renewable chemical production and human health \nDr. Ben Woolston \nAssistant Professor\, Chemical Engineering \nNortheastern University \nAbstract: The synthetic biology revolution has given us the ability to genetically reprogram microbes to serve a wide variety of purposes\, from miniscule chemical factories that orchestrate exquisitely selective enzymatic pathways to produce fuels\, pharmaceuticals and polymers\, to biological computers that can sense their chemical environment and implement complex decision-making algorithms. The overall goal of the Woolston lab is to harness this potential for applications in renewable energy production and the human gut microbiota. This talk will present an overview of the two major current thrusts of the lab: In the first\, we are engineering anaerobic bacteria for the conversion of renewable single-carbon feedstocks to biofuels\, taking advantage of a number of economic and ethical benefits of using these substrates compared to 1st and 2nd generation biofuel efforts. In the second\, we are developing engineered microbes that can sense and modulate the levels of disease-associated metabolites in the human gut\, with an initial focus on hydrogen sulfide; a toxic\, volatile molecule implicated in the onset of IBD and colorectal cancer. As well as the exciting applied potential of the resultant technology\, these efforts provide us with model systems with which to ask broader fundamental questions about microbial metabolism
URL:https://www.syntheticbiology.uw.edu/event/moles-seminar-winter-2025_dr-ben-woolston_engineering-bacteria-to-solve-problems-in-renewable-chemical-production-and-human-health/
LOCATION:NanoES 181
END:VEVENT
BEGIN:VEVENT
DTSTART;TZID=America/Los_Angeles:20250106T133000
DTEND;TZID=America/Los_Angeles:20250106T143000
DTSTAMP:20260424T110001
CREATED:20241023T175131Z
LAST-MODIFIED:20250210T181831Z
UID:438-1736170200-1736173800@www.syntheticbiology.uw.edu
SUMMARY:Synbio Supergroup Meeting_Claudia Vasquez (Dept of Biochemistry)
DESCRIPTION:Monthly ‘Supergroup’ Seminars have featured >100 graduate student and faculty presenters from UW and beyond.  All students\, postdocs\, research scientists\, and faculty are welcome and encouraged to sign up to present. These meetings are a great informal venue to brainstorm new ideas\, get feedback on preliminary results\, practice for oral exams and job talks\, and just share your cool science with the broader UW/Seattle SynBio community! \nMolES 215 and on zoom https://washington.zoom.us/j/94024270390
URL:https://www.syntheticbiology.uw.edu/event/synbio-supergroup-meeting_claudia-vasquez-dept-of-biochemistry/
LOCATION:MolES 215
END:VEVENT
BEGIN:VEVENT
DTSTART;TZID=America/Los_Angeles:20241202T133000
DTEND;TZID=America/Los_Angeles:20241202T143000
DTSTAMP:20260424T110001
CREATED:20241023T174715Z
LAST-MODIFIED:20250210T181841Z
UID:433-1733146200-1733149800@www.syntheticbiology.uw.edu
SUMMARY:Synbio Supergroup Meeting_Hayden Henry (Zalatan/Klevit) and Tommy G. Primo (Carothers)
DESCRIPTION:Hybrid Monthly ‘Supergroup’ Seminars have featured >100 graduate student and faculty presenters from UW and beyond.  All students\, postdocs\, research scientists\, and faculty are welcome and encouraged to sign up to present. These meetings are a great informal venue to brainstorm new ideas\, get feedback on preliminary results\, practice for oral exams and job talks\, and just share your cool science with the broader UW/Seattle SynBio community! \n  \nMolES 215 and on zoom https://washington.zoom.us/j/94024270390
URL:https://www.syntheticbiology.uw.edu/event/synbio-supergroup-meeting_hayden-henry-zalatan-klevit-and-tommy-g-primo-carothers/
LOCATION:MolES 215
END:VEVENT
BEGIN:VEVENT
DTSTART;TZID=America/Los_Angeles:20241119T130000
DTEND;TZID=America/Los_Angeles:20241119T140000
DTSTAMP:20260424T110001
CREATED:20241017T180350Z
LAST-MODIFIED:20250210T181859Z
UID:414-1732021200-1732024800@www.syntheticbiology.uw.edu
SUMMARY:MolES Seminar: Brian Pfleger (Chemical & Biological Engineering - University of Madison-Wisconsin)
DESCRIPTION:The Molecular Engineering & Sciences Institute hosts a weekly seminar that brings together students\, faculty and distinguished leaders from various disciplines across campus to explore current trends in molecular engineering and nanotechnology. This week’s MolES Seminar presenter is Brian Pfleger (Chemical & Biological Engineering – University of Madison-Wisconsin).
URL:https://www.syntheticbiology.uw.edu/event/moles-seminar-brian-pfleger-chemical-biological-engineering-university-of-madison-wisconsin/
LOCATION:NanoES 181
END:VEVENT
BEGIN:VEVENT
DTSTART;TZID=America/Los_Angeles:20241113T153000
DTEND;TZID=America/Los_Angeles:20241113T163000
DTSTAMP:20260424T110001
CREATED:20241023T172725Z
LAST-MODIFIED:20250210T181918Z
UID:426-1731511800-1731515400@www.syntheticbiology.uw.edu
SUMMARY:Genome Sciences Seminars_Dr. Kyle Loh | Stanford University
DESCRIPTION:UW Genome Sciences brings leading researchers from a broad spectrum of scientific areas to campus to discuss the latest advances in genetics\, genomics\, proteomics\, computational research and related emerging tools and technologies.
URL:https://www.syntheticbiology.uw.edu/event/genome-sciences-seminars_dr-kyle-loh-stanford-university/
LOCATION:Foege Auditorium (Foege S-060
END:VEVENT
BEGIN:VEVENT
DTSTART;TZID=America/Los_Angeles:20241105T090000
DTEND;TZID=America/Los_Angeles:20241105T100000
DTSTAMP:20260424T110001
CREATED:20241101T212719Z
LAST-MODIFIED:20250210T181935Z
UID:441-1730797200-1730800800@www.syntheticbiology.uw.edu
SUMMARY:ChemE Graduate Seminar Series_Wilfred Chen_Gore Professor of Chemical Engineering\, University of Delaware
DESCRIPTION:Wilfred Chen\nGore Professor of Chemical Engineering\,\nInterim Associate Dean for Research and Entrepreneurship\,\nUniversity of Delaware\nNovember 5\nLecture 9:00 – 9:50 a.m. | JHN 075\nReception 10:00 -11:00 a.m. | BNS 109 \nAbstract\nInspired by the remarkable ability of natural protein switches to sense and respond to a wide range of environmental queues\, here we reported new strategies to engineer synthetic protein switches to dynamically organize proteins with highly diverse and complex architectures. This new framework can be used to dynamically control the spatial proximity and the corresponding functions of different proteins for both in vitro and in vivo applications. The general utility of the strategy was used to perform Boolean logic operations to provide explicit control of protein function using multi-input\, reversible\, and amplification architectures suitable for a wide range of applications.\nBio\nProfessor Wilfred Chen joined the University of Delaware on January 1\, 2011 as the Gore Professor of Chemical Engineering. He obtained his B.S. degree from UCLA in 1988 and his Ph.D. from Caltech in 1993\, both in Chemical Engineering. After a one-year postdoc in Switzerland\, he joined UC Riverside in 1994. He was Professor of Chemical and Environmental Engineering and the holder of the Presidential Chair until he joined the University of Delaware in 2011. His research interests are in Synthetic Biology and Protein Engineering. Professor Chen has published more than 290 journal papers and delivered over 100 invited lectures. He serves on the editorial board for many scientific publications\, including: Applied and Environmental Microbiology and Biotechnology and Bioengineering. He is also the editor/associate editor for the Biochemical Engineering Journal\, Biotechnology Journal\, and AICHE Journal. He is a fellow of the American Association for the Advancement of Science (AAAS) and the American Institute for Medical and Biological Engineering (AIMBE).\nProfessor Chen has also received numerous awards\, including: the NSF Career Award\, AIChE Food\, Pharmaceutical\, and Bioengineering Division 15c Plenary Lecture\, Biotechnology Progress Award for Excellence in Biological Engineering Publication\, Daniel I.C. Wang Award for Excellence in Biochemical Engineering from AICHE/SBE\, Marvin J. Johnson Award in Microbial & Biochemical Technology from ACS\, and the AICHE Food\, Pharmaceutical & the Bioengineering Division Award.
URL:https://www.syntheticbiology.uw.edu/event/cheme-graduate-seminar-series_wilfred-chen_gore-professor-of-chemical-engineering-university-of-delaware/
END:VEVENT
BEGIN:VEVENT
DTSTART;TZID=America/Los_Angeles:20241104T133000
DTEND;TZID=America/Los_Angeles:20241104T143000
DTSTAMP:20260424T110001
CREATED:20241023T173437Z
LAST-MODIFIED:20250210T181947Z
UID:429-1730727000-1730730600@www.syntheticbiology.uw.edu
SUMMARY:Synbio Supergroup Meeting_Nick Kaplan (Marchand)
DESCRIPTION:Monthly ‘Supergroup’ Seminars have featured >100 graduate student and faculty presenters from UW and beyond.  All students\, postdocs\, research scientists\, and faculty are welcome and encouraged to sign up to present. These meetings are a great informal venue to brainstorm new ideas\, get feedback on preliminary results\, practice for oral exams and job talks\, and just share your cool science with the broader UW/Seattle SynBio community! \n  \nMolES 215 and on zoom https://washington.zoom.us/j/94024270390
URL:https://www.syntheticbiology.uw.edu/event/synbio-supergroup-meeting/
LOCATION:MolES 215
END:VEVENT
END:VCALENDAR