BEGIN:VCALENDAR
VERSION:2.0
PRODID:-//CENTER FOR SYNTHETIC BIOLOGY - ECPv6.15.20//NONSGML v1.0//EN
CALSCALE:GREGORIAN
METHOD:PUBLISH
X-WR-CALNAME:CENTER FOR SYNTHETIC BIOLOGY
X-ORIGINAL-URL:https://www.syntheticbiology.uw.edu
X-WR-CALDESC:Events for CENTER FOR SYNTHETIC BIOLOGY
REFRESH-INTERVAL;VALUE=DURATION:PT1H
X-Robots-Tag:noindex
X-PUBLISHED-TTL:PT1H
BEGIN:VTIMEZONE
TZID:America/Los_Angeles
BEGIN:DAYLIGHT
TZOFFSETFROM:-0800
TZOFFSETTO:-0700
TZNAME:PDT
DTSTART:20240310T100000
END:DAYLIGHT
BEGIN:STANDARD
TZOFFSETFROM:-0700
TZOFFSETTO:-0800
TZNAME:PST
DTSTART:20241103T090000
END:STANDARD
BEGIN:DAYLIGHT
TZOFFSETFROM:-0800
TZOFFSETTO:-0700
TZNAME:PDT
DTSTART:20250309T100000
END:DAYLIGHT
BEGIN:STANDARD
TZOFFSETFROM:-0700
TZOFFSETTO:-0800
TZNAME:PST
DTSTART:20251102T090000
END:STANDARD
BEGIN:DAYLIGHT
TZOFFSETFROM:-0800
TZOFFSETTO:-0700
TZNAME:PDT
DTSTART:20260308T100000
END:DAYLIGHT
BEGIN:STANDARD
TZOFFSETFROM:-0700
TZOFFSETTO:-0800
TZNAME:PST
DTSTART:20261101T090000
END:STANDARD
END:VTIMEZONE
BEGIN:VTIMEZONE
TZID:UTC
BEGIN:STANDARD
TZOFFSETFROM:+0000
TZOFFSETTO:+0000
TZNAME:UTC
DTSTART:20240101T000000
END:STANDARD
END:VTIMEZONE
BEGIN:VEVENT
DTSTART;TZID=America/Los_Angeles:20250106T133000
DTEND;TZID=America/Los_Angeles:20250106T143000
DTSTAMP:20260426T025358
CREATED:20241023T175131Z
LAST-MODIFIED:20250210T181831Z
UID:438-1736170200-1736173800@www.syntheticbiology.uw.edu
SUMMARY:Synbio Supergroup Meeting_Claudia Vasquez (Dept of Biochemistry)
DESCRIPTION:Monthly ‘Supergroup’ Seminars have featured >100 graduate student and faculty presenters from UW and beyond.  All students\, postdocs\, research scientists\, and faculty are welcome and encouraged to sign up to present. These meetings are a great informal venue to brainstorm new ideas\, get feedback on preliminary results\, practice for oral exams and job talks\, and just share your cool science with the broader UW/Seattle SynBio community! \nMolES 215 and on zoom https://washington.zoom.us/j/94024270390
URL:https://www.syntheticbiology.uw.edu/event/synbio-supergroup-meeting_claudia-vasquez-dept-of-biochemistry/
LOCATION:MolES 215
END:VEVENT
BEGIN:VEVENT
DTSTART;TZID=UTC:20250114T130000
DTEND;TZID=UTC:20250114T140000
DTSTAMP:20260426T025358
CREATED:20250820T150156Z
LAST-MODIFIED:20250820T150156Z
UID:510-1736859600-1736863200@www.syntheticbiology.uw.edu
SUMMARY:MolES Seminar - Winter 2025_Dr. Ben Woolston_Engineering bacteria to solve problems in renewable chemical production and human health
DESCRIPTION:Engineering bacteria to solve problems in renewable chemical production and human health \nDr. Ben Woolston \nAssistant Professor\, Chemical Engineering \nNortheastern University \nAbstract: The synthetic biology revolution has given us the ability to genetically reprogram microbes to serve a wide variety of purposes\, from miniscule chemical factories that orchestrate exquisitely selective enzymatic pathways to produce fuels\, pharmaceuticals and polymers\, to biological computers that can sense their chemical environment and implement complex decision-making algorithms. The overall goal of the Woolston lab is to harness this potential for applications in renewable energy production and the human gut microbiota. This talk will present an overview of the two major current thrusts of the lab: In the first\, we are engineering anaerobic bacteria for the conversion of renewable single-carbon feedstocks to biofuels\, taking advantage of a number of economic and ethical benefits of using these substrates compared to 1st and 2nd generation biofuel efforts. In the second\, we are developing engineered microbes that can sense and modulate the levels of disease-associated metabolites in the human gut\, with an initial focus on hydrogen sulfide; a toxic\, volatile molecule implicated in the onset of IBD and colorectal cancer. As well as the exciting applied potential of the resultant technology\, these efforts provide us with model systems with which to ask broader fundamental questions about microbial metabolism
URL:https://www.syntheticbiology.uw.edu/event/moles-seminar-winter-2025_dr-ben-woolston_engineering-bacteria-to-solve-problems-in-renewable-chemical-production-and-human-health/
LOCATION:NanoES 181
END:VEVENT
END:VCALENDAR